BEGIN:VCALENDAR
VERSION:2.0
PRODID:icalendar-ruby
CALSCALE:GREGORIAN
METHOD:PUBLISH
BEGIN:VEVENT
DTSTAMP:20260423T115648Z
UID:214-1145696@stpaulsessex.ca
DTSTART:20260502T000000Z
DTEND:20260502T013000Z
CLASS:PUBLIC
CREATED:20260422T120003
DESCRIPTION:Come and enjoy our amazing pasta dinner featuring meat and vege
 tarian pasta\, salad\, rolls\, and cake. Stay for some amazing music featu
 ring members of the Essex Community Concert Band's Swing section! Music st
 arts in the church at 6:30 thanks to our friends. We are looking forward t
 o a great show!
LAST-MODIFIED:20260422T120003
LOCATION:St. Paul's Anglican Church
SUMMARY:Pasta Dinner & A Show
URL;VALUE=URI:https://stpaulsessex.ca/events/pasta-dinner-a-show/2026-05-01
ATTACH;FILENAME=674896828_1425862029581466_1919542185836177781_n.jpg;FMTTYP
 E=image/jpeg:https://dq5pwpg1q8ru0.cloudfront.net/2026/04/22/19/00/02/c674
 a5fd-ff86-40cc-9908-0a674fcc43bf/674896828_1425862029581466_19195421858361
 77781_n.jpg
END:VEVENT
END:VCALENDAR
